BEGIN:VCALENDAR
VERSION:2.0
PRODID:-//Royal   Naval Association Wrexham Branch - ECPv6.3.4//NONSGML v1.0//EN
CALSCALE:GREGORIAN
METHOD:PUBLISH
X-WR-CALNAME:Royal   Naval Association Wrexham Branch
X-ORIGINAL-URL:https://royal-naval-association-wrexham-branch.org.uk
X-WR-CALDESC:Events for Royal   Naval Association Wrexham Branch
REFRESH-INTERVAL;VALUE=DURATION:PT1H
X-Robots-Tag:noindex
X-PUBLISHED-TTL:PT1H
BEGIN:VTIMEZONE
TZID:Europe/London
BEGIN:DAYLIGHT
TZOFFSETFROM:+0000
TZOFFSETTO:+0100
TZNAME:BST
DTSTART:20250330T010000
END:DAYLIGHT
BEGIN:STANDARD
TZOFFSETFROM:+0100
TZOFFSETTO:+0000
TZNAME:GMT
DTSTART:20251026T010000
END:STANDARD
END:VTIMEZONE
BEGIN:VEVENT
DTSTART;TZID=Europe/London:20251001T190000
DTEND;TZID=Europe/London:20251001T200000
DTSTAMP:20260421T104027
CREATED:20250217T101426Z
LAST-MODIFIED:20250217T101446Z
UID:4434-1759345200-1759348800@royal-naval-association-wrexham-branch.org.uk
SUMMARY:Wrexham RNA Chat & Quiz on Zoom
DESCRIPTION:
URL:https://royal-naval-association-wrexham-branch.org.uk/event/wrexham-rna-chat-quiz-on-zoom-63/
LOCATION:Takes place on Zoom\, please see Wrexham RNA Facebook Page for Meeting link and password provided by Shipmate Kevin Hackett.
END:VEVENT
BEGIN:VEVENT
DTSTART;TZID=Europe/London:20251008T190000
DTEND;TZID=Europe/London:20251008T213000
DTSTAMP:20260421T104027
CREATED:20250217T101630Z
LAST-MODIFIED:20250217T101635Z
UID:4436-1759950000-1759959000@royal-naval-association-wrexham-branch.org.uk
SUMMARY:Wrexham RNA Branch Business Meeting
DESCRIPTION:
URL:https://royal-naval-association-wrexham-branch.org.uk/event/wrexham-rna-branch-business-meeting-31/
LOCATION:Wrexham War Memorial Club\, Farndon Street\, Wrexham\, LL13 8DE\, United Kingdom
END:VEVENT
BEGIN:VEVENT
DTSTART;TZID=Europe/London:20251015T190000
DTEND;TZID=Europe/London:20251015T200000
DTSTAMP:20260421T104027
CREATED:20250217T101912Z
LAST-MODIFIED:20250217T101917Z
UID:4438-1760554800-1760558400@royal-naval-association-wrexham-branch.org.uk
SUMMARY:Wrexham RNA Chat & Quiz on Zoom
DESCRIPTION:
URL:https://royal-naval-association-wrexham-branch.org.uk/event/wrexham-rna-chat-quiz-on-zoom-64/
LOCATION:Takes place on Zoom\, please see Wrexham RNA Facebook Page for Meeting link and password provided by Shipmate Kevin Hackett.
END:VEVENT
BEGIN:VEVENT
DTSTART;TZID=Europe/London:20251017T180000
DTEND;TZID=Europe/London:20251017T230000
DTSTAMP:20260421T104027
CREATED:20250217T102200Z
LAST-MODIFIED:20250217T102204Z
UID:4440-1760724000-1760742000@royal-naval-association-wrexham-branch.org.uk
SUMMARY:Trafalgar Night Dinner
DESCRIPTION:
URL:https://royal-naval-association-wrexham-branch.org.uk/event/trafalgar-night-dinner/
LOCATION:Maesgwyn Hall\, Mold Road\, LL11 2AF
END:VEVENT
BEGIN:VEVENT
DTSTART;TZID=Europe/London:20251022T190000
DTEND;TZID=Europe/London:20251022T213000
DTSTAMP:20260421T104027
CREATED:20250217T102337Z
LAST-MODIFIED:20250217T102342Z
UID:4442-1761159600-1761168600@royal-naval-association-wrexham-branch.org.uk
SUMMARY:Wrexham RNA Branch Social Meeting
DESCRIPTION:
URL:https://royal-naval-association-wrexham-branch.org.uk/event/wrexham-rna-branch-social-meeting-39/
LOCATION:Wrexham War Memorial Club\, Farndon Street\, Wrexham\, LL13 8DE\, United Kingdom
END:VEVENT
BEGIN:VEVENT
DTSTART;VALUE=DATE:20251025
DTEND;VALUE=DATE:20251026
DTSTAMP:20260421T104027
CREATED:20250217T102624Z
LAST-MODIFIED:20250217T102632Z
UID:4444-1761350400-1761436799@royal-naval-association-wrexham-branch.org.uk
SUMMARY:Area 10 Reunion/Conference Llandudno TBC
DESCRIPTION:
URL:https://royal-naval-association-wrexham-branch.org.uk/event/area-10-reunion-conference-llandudno-tbc/
END:VEVENT
BEGIN:VEVENT
DTSTART;TZID=Europe/London:20251029T190000
DTEND;TZID=Europe/London:20251029T200000
DTSTAMP:20260421T104027
CREATED:20250217T102759Z
LAST-MODIFIED:20250217T102803Z
UID:4446-1761764400-1761768000@royal-naval-association-wrexham-branch.org.uk
SUMMARY:Wrexham RNA Chat & Quiz on Zoom
DESCRIPTION:
URL:https://royal-naval-association-wrexham-branch.org.uk/event/wrexham-rna-chat-quiz-on-zoom-65/
LOCATION:Takes place on Zoom\, please see Wrexham RNA Facebook Page for Meeting link and password provided by Shipmate Kevin Hackett.
END:VEVENT
END:VCALENDAR