BEGIN:VCALENDAR
VERSION:2.0
PRODID:-//Royal   Naval Association Wrexham Branch - ECPv6.3.4//NONSGML v1.0//EN
CALSCALE:GREGORIAN
METHOD:PUBLISH
X-WR-CALNAME:Royal   Naval Association Wrexham Branch
X-ORIGINAL-URL:https://royal-naval-association-wrexham-branch.org.uk
X-WR-CALDESC:Events for Royal   Naval Association Wrexham Branch
REFRESH-INTERVAL;VALUE=DURATION:PT1H
X-Robots-Tag:noindex
X-PUBLISHED-TTL:PT1H
BEGIN:VTIMEZONE
TZID:Europe/London
BEGIN:DAYLIGHT
TZOFFSETFROM:+0000
TZOFFSETTO:+0100
TZNAME:BST
DTSTART:20250330T010000
END:DAYLIGHT
BEGIN:STANDARD
TZOFFSETFROM:+0100
TZOFFSETTO:+0000
TZNAME:GMT
DTSTART:20251026T010000
END:STANDARD
END:VTIMEZONE
BEGIN:VEVENT
DTSTART;TZID=Europe/London:20250903T190000
DTEND;TZID=Europe/London:20250903T200000
DTSTAMP:20260421T120315
CREATED:20250217T100102Z
LAST-MODIFIED:20250217T100107Z
UID:4424-1756926000-1756929600@royal-naval-association-wrexham-branch.org.uk
SUMMARY:Wrexham RNA Chat & Quiz on Zoom
DESCRIPTION:
URL:https://royal-naval-association-wrexham-branch.org.uk/event/wrexham-rna-chat-quiz-on-zoom-61/
LOCATION:Takes place on Zoom\, please see Wrexham RNA Facebook Page for Meeting link and password provided by Shipmate Kevin Hackett.
END:VEVENT
BEGIN:VEVENT
DTSTART;TZID=Europe/London:20250910T190000
DTEND;TZID=Europe/London:20250910T213000
DTSTAMP:20260421T120315
CREATED:20250217T100250Z
LAST-MODIFIED:20250217T100255Z
UID:4426-1757530800-1757539800@royal-naval-association-wrexham-branch.org.uk
SUMMARY:Wrexham RNA Branch Business Meeting
DESCRIPTION:
URL:https://royal-naval-association-wrexham-branch.org.uk/event/wrexham-rna-branch-business-meeting-30/
LOCATION:Wrexham War Memorial Club\, Farndon Street\, Wrexham\, LL13 8DE\, United Kingdom
END:VEVENT
BEGIN:VEVENT
DTSTART;VALUE=DATE:20250914
DTEND;VALUE=DATE:20250915
DTSTAMP:20260421T120315
CREATED:20250217T100719Z
LAST-MODIFIED:20250217T100725Z
UID:4428-1757808000-1757894399@royal-naval-association-wrexham-branch.org.uk
SUMMARY:Biennial Parade Whitehall
DESCRIPTION:Biennial Parade – London – Royal Naval Association
URL:https://royal-naval-association-wrexham-branch.org.uk/event/biennial-parade-whitehall/
LOCATION:VENUE Whitehall United Kingdom + Google Map
END:VEVENT
BEGIN:VEVENT
DTSTART;TZID=Europe/London:20250917T190000
DTEND;TZID=Europe/London:20250917T200000
DTSTAMP:20260421T120315
CREATED:20250217T101018Z
LAST-MODIFIED:20250217T101026Z
UID:4430-1758135600-1758139200@royal-naval-association-wrexham-branch.org.uk
SUMMARY:Wrexham RNA Chat & Quiz on Zoom
DESCRIPTION:
URL:https://royal-naval-association-wrexham-branch.org.uk/event/wrexham-rna-chat-quiz-on-zoom-62/
LOCATION:Takes place on Zoom\, please see Wrexham RNA Facebook Page for Meeting link and password provided by Shipmate Kevin Hackett.
END:VEVENT
BEGIN:VEVENT
DTSTART;TZID=Europe/London:20250924T190000
DTEND;TZID=Europe/London:20250924T213000
DTSTAMP:20260421T120315
CREATED:20250217T101223Z
LAST-MODIFIED:20250217T101229Z
UID:4432-1758740400-1758749400@royal-naval-association-wrexham-branch.org.uk
SUMMARY:Wrexham RNA Branch Social Meeting
DESCRIPTION:
URL:https://royal-naval-association-wrexham-branch.org.uk/event/wrexham-rna-branch-social-meeting-38/
LOCATION:Wrexham War Memorial Club\, Farndon Street\, Wrexham\, LL13 8DE\, United Kingdom
END:VEVENT
END:VCALENDAR