BEGIN:VCALENDAR
VERSION:2.0
PRODID:-//Royal   Naval Association Wrexham Branch - ECPv6.3.4//NONSGML v1.0//EN
CALSCALE:GREGORIAN
METHOD:PUBLISH
X-WR-CALNAME:Royal   Naval Association Wrexham Branch
X-ORIGINAL-URL:https://royal-naval-association-wrexham-branch.org.uk
X-WR-CALDESC:Events for Royal   Naval Association Wrexham Branch
REFRESH-INTERVAL;VALUE=DURATION:PT1H
X-Robots-Tag:noindex
X-PUBLISHED-TTL:PT1H
BEGIN:VTIMEZONE
TZID:Europe/London
BEGIN:DAYLIGHT
TZOFFSETFROM:+0000
TZOFFSETTO:+0100
TZNAME:BST
DTSTART:20250330T010000
END:DAYLIGHT
BEGIN:STANDARD
TZOFFSETFROM:+0100
TZOFFSETTO:+0000
TZNAME:GMT
DTSTART:20251026T010000
END:STANDARD
END:VTIMEZONE
BEGIN:VEVENT
DTSTART;TZID=Europe/London:20250604T190000
DTEND;TZID=Europe/London:20250604T200000
DTSTAMP:20260421T203539
CREATED:20240402T134349Z
LAST-MODIFIED:20240402T134355Z
UID:4163-1749063600-1749067200@royal-naval-association-wrexham-branch.org.uk
SUMMARY:Wrexham RNA Chat & Quiz on Zoom
DESCRIPTION:Takes place on Zoom\, please see Wrexham RNA Facebook Page for Meeting link and password provided by Shipmate Kevin Hackett.
URL:https://royal-naval-association-wrexham-branch.org.uk/event/wrexham-rna-chat-quiz-on-zoom-49/
LOCATION:online Zoom Meeting
END:VEVENT
BEGIN:VEVENT
DTSTART;TZID=Europe/London:20250611T190000
DTEND;TZID=Europe/London:20250611T220000
DTSTAMP:20260421T203539
CREATED:20240402T134551Z
LAST-MODIFIED:20240402T134558Z
UID:4165-1749668400-1749679200@royal-naval-association-wrexham-branch.org.uk
SUMMARY:Wrexham RNA Branch Business Meeting
DESCRIPTION:
URL:https://royal-naval-association-wrexham-branch.org.uk/event/wrexham-rna-branch-business-meeting-24/
LOCATION:Wrexham War Memorial Club\, Farndon Street\, Wrexham\, LL13 8DE\, United Kingdom
END:VEVENT
BEGIN:VEVENT
DTSTART;TZID=Europe/London:20250618T190000
DTEND;TZID=Europe/London:20250618T200000
DTSTAMP:20260421T203539
CREATED:20240402T134806Z
LAST-MODIFIED:20240402T134812Z
UID:4167-1750273200-1750276800@royal-naval-association-wrexham-branch.org.uk
SUMMARY:Wrexham RNA Chat & Quiz on Zoom
DESCRIPTION:Takes place on Zoom\, please see Wrexham RNA Facebook Page for Meeting link and password provided by Shipmate Kevin Hackett.
URL:https://royal-naval-association-wrexham-branch.org.uk/event/wrexham-rna-chat-quiz-on-zoom-50/
LOCATION:online Zoom Meeting
END:VEVENT
BEGIN:VEVENT
DTSTART;TZID=Europe/London:20250620T080000
DTEND;TZID=Europe/London:20250622T170000
DTSTAMP:20260421T203539
CREATED:20241219T130754Z
LAST-MODIFIED:20250110T111317Z
UID:4327-1750406400-1750611600@royal-naval-association-wrexham-branch.org.uk
SUMMARY:RNA 75th Annual Conference 2025 Portsmouth
DESCRIPTION:RNA75 Annual Conference – Portsmouth 2025 – Royal Naval Association
URL:https://royal-naval-association-wrexham-branch.org.uk/event/rna-75th-annual-conference-2025-portsmouth/
END:VEVENT
BEGIN:VEVENT
DTSTART;TZID=Europe/London:20250625T190000
DTEND;TZID=Europe/London:20250625T220000
DTSTAMP:20260421T203539
CREATED:20240402T140318Z
LAST-MODIFIED:20250110T111804Z
UID:4171-1750878000-1750888800@royal-naval-association-wrexham-branch.org.uk
SUMMARY:Wrexham RNA Branch Social Meeting
DESCRIPTION:
URL:https://royal-naval-association-wrexham-branch.org.uk/event/wrexham-rna-branch-business-meeting-25/
LOCATION:Wrexham War Memorial Club\, Farndon Street\, Wrexham\, LL13 8DE\, United Kingdom
END:VEVENT
BEGIN:VEVENT
DTSTART;VALUE=DATE:20250628
DTEND;VALUE=DATE:20250629
DTSTAMP:20260421T203539
CREATED:20250127T142833Z
LAST-MODIFIED:20250220T162733Z
UID:4369-1751068800-1751155199@royal-naval-association-wrexham-branch.org.uk
SUMMARY:Wales Armed Forces Day _ Caldicot Castle\, Monmouthshire
DESCRIPTION:National Armed Forces Day – Military Event in Caldicot\, Caldicot – Visit Monmouthshire \nNational Armed Forces Day 2025 – Monmouthshire \n 
URL:https://royal-naval-association-wrexham-branch.org.uk/event/wales-armed-forces-day-_-caldicot-castle-monmouthshire/
END:VEVENT
BEGIN:VEVENT
DTSTART;VALUE=DATE:20250628
DTEND;VALUE=DATE:20250629
DTSTAMP:20260421T203539
CREATED:20250219T194003Z
LAST-MODIFIED:20250220T161957Z
UID:4490-1751068800-1751155199@royal-naval-association-wrexham-branch.org.uk
SUMMARY:Welch Guards Falklands Service. Sat 28th June.
DESCRIPTION:The 43rd Falklands Memorial Service and Reunion will take place in Wrexham on a date on 28th June 2025. The Reunion will follow the traditional format of a service at St Giles’ Parish Church\, wreath laying at the Welsh Guards Memorial at Bodhyfryd and then on to a reception in the War Memorial Club. \nhttps://www.welshguardscharity.co.uk/event-category/association-events \n  \n 
URL:https://royal-naval-association-wrexham-branch.org.uk/event/welch-guards-falklands-service-sat-28th-june/
END:VEVENT
END:VCALENDAR