BEGIN:VCALENDAR
VERSION:2.0
PRODID:-//Royal   Naval Association Wrexham Branch - ECPv6.3.4//NONSGML v1.0//EN
CALSCALE:GREGORIAN
METHOD:PUBLISH
X-WR-CALNAME:Royal   Naval Association Wrexham Branch
X-ORIGINAL-URL:https://royal-naval-association-wrexham-branch.org.uk
X-WR-CALDESC:Events for Royal   Naval Association Wrexham Branch
REFRESH-INTERVAL;VALUE=DURATION:PT1H
X-Robots-Tag:noindex
X-PUBLISHED-TTL:PT1H
BEGIN:VTIMEZONE
TZID:Europe/London
BEGIN:DAYLIGHT
TZOFFSETFROM:+0000
TZOFFSETTO:+0100
TZNAME:BST
DTSTART:20240331T010000
END:DAYLIGHT
BEGIN:STANDARD
TZOFFSETFROM:+0100
TZOFFSETTO:+0000
TZNAME:GMT
DTSTART:20241027T010000
END:STANDARD
END:VTIMEZONE
BEGIN:VEVENT
DTSTART;TZID=Europe/London:20241009T190000
DTEND;TZID=Europe/London:20241009T220000
DTSTAMP:20260421T104027
CREATED:20240305T123501Z
LAST-MODIFIED:20240305T123506Z
UID:3694-1728500400-1728511200@royal-naval-association-wrexham-branch.org.uk
SUMMARY:Wrexham RNA Branch Business Meeting
DESCRIPTION:
URL:https://royal-naval-association-wrexham-branch.org.uk/event/wrexham-rna-branch-business-meeting-17/
LOCATION:Wrexham War Memorial Club\, Farndon Street\, Wrexham\, LL13 8DE\, United Kingdom
END:VEVENT
BEGIN:VEVENT
DTSTART;TZID=Europe/London:20241012T080000
DTEND;TZID=Europe/London:20241012T170000
DTSTAMP:20260421T104027
CREATED:20240305T124306Z
LAST-MODIFIED:20240305T124313Z
UID:3696-1728720000-1728752400@royal-naval-association-wrexham-branch.org.uk
SUMMARY:World Uckers Championship Portsmouth
DESCRIPTION:The World Uckers Championships Finals are held in Portsmouth\, organized by the Royal Naval Association. This spirited event celebrates the traditional naval board game of Uckers\, which has a rich history within the Royal Navy. The championship brings together skilled players from various backgrounds\, and the competition is fierce as they vie for the coveted title of Uckers champion. The event is supported by Uckers Ya Uckers\, Pusser’s Rum\, and the Royal Maritime Club in Portsmouth12. \nUckers\, a game with roots in naval culture\, combines strategy\, luck\, and camaraderie. It’s played on a unique board with dice\, and the goal is to move your pieces around the board while thwarting your opponent’s progress. The game’s rules and tactics are passed down through generations of sailors\, making it a cherished tradition. \nSo\, if you find yourself in Portsmouth during the championship\, don’t miss the chance to witness the excitement and skill of Uckers players as they compete for glory! 🎲⚓🏆 \nVenue:  \n \n 
URL:https://royal-naval-association-wrexham-branch.org.uk/event/world-uckers-championship-portsmouth/
LOCATION:The Royal Maritime Club Portsmouth
END:VEVENT
BEGIN:VEVENT
DTSTART;TZID=Europe/London:20241016T190000
DTEND;TZID=Europe/London:20241016T200000
DTSTAMP:20260421T104027
CREATED:20240305T124445Z
LAST-MODIFIED:20240305T124456Z
UID:3699-1729105200-1729108800@royal-naval-association-wrexham-branch.org.uk
SUMMARY:Wrexham RNA Chat & Quiz on Zoom
DESCRIPTION:
URL:https://royal-naval-association-wrexham-branch.org.uk/event/wrexham-rna-chat-quiz-on-zoom-36/
LOCATION:Takes place on Zoom\, please see Wrexham RNA Facebook Page for Meeting link and password provided by Shipmate Kevin Hackett.
END:VEVENT
BEGIN:VEVENT
DTSTART;VALUE=DATE:20241018
DTEND;VALUE=DATE:20241019
DTSTAMP:20260421T104027
CREATED:20240305T125013Z
LAST-MODIFIED:20240305T125130Z
UID:3701-1729209600-1729295999@royal-naval-association-wrexham-branch.org.uk
SUMMARY:Wrexham RNA Trafalgar Night Dinner
DESCRIPTION:Venue: Maesgwyn Hall Wrexham \nMold Road\nWrexham\nDenbighshire\nLL11 2AF \nTimes and menu details will be published nearer the time.
URL:https://royal-naval-association-wrexham-branch.org.uk/event/wrexham-rna-trafalgar-night-dinner/
LOCATION:Mold Road Wrexham Denbighshire LL11 2AF
END:VEVENT
BEGIN:VEVENT
DTSTART;TZID=Europe/London:20241023T190000
DTEND;TZID=Europe/London:20241023T220000
DTSTAMP:20260421T104027
CREATED:20240305T125303Z
LAST-MODIFIED:20240305T125308Z
UID:3705-1729710000-1729720800@royal-naval-association-wrexham-branch.org.uk
SUMMARY:Wrexham RNA Branch Social Meeting
DESCRIPTION:
URL:https://royal-naval-association-wrexham-branch.org.uk/event/wrexham-rna-branch-social-meeting-28/
LOCATION:Wrexham War Memorial Club\, Farndon Street\, Wrexham\, LL13 8DE\, United Kingdom
END:VEVENT
BEGIN:VEVENT
DTSTART;TZID=Europe/London:20241030T190000
DTEND;TZID=Europe/London:20241030T200000
DTSTAMP:20260421T104027
CREATED:20240305T125440Z
LAST-MODIFIED:20240305T125456Z
UID:3707-1730314800-1730318400@royal-naval-association-wrexham-branch.org.uk
SUMMARY:Wrexham RNA Chat & Quiz on Zoom
DESCRIPTION:
URL:https://royal-naval-association-wrexham-branch.org.uk/event/wrexham-rna-chat-quiz-on-zoom-37/
LOCATION:Takes place on Zoom\, please see Wrexham RNA Facebook Page for Meeting link and password provided by Shipmate Kevin Hackett.
END:VEVENT
END:VCALENDAR