BEGIN:VCALENDAR
VERSION:2.0
PRODID:-//Royal   Naval Association Wrexham Branch - ECPv6.3.4//NONSGML v1.0//EN
CALSCALE:GREGORIAN
METHOD:PUBLISH
X-ORIGINAL-URL:https://royal-naval-association-wrexham-branch.org.uk
X-WR-CALDESC:Events for Royal   Naval Association Wrexham Branch
REFRESH-INTERVAL;VALUE=DURATION:PT1H
X-Robots-Tag:noindex
X-PUBLISHED-TTL:PT1H
BEGIN:VTIMEZONE
TZID:Europe/London
BEGIN:DAYLIGHT
TZOFFSETFROM:+0000
TZOFFSETTO:+0100
TZNAME:BST
DTSTART:20240331T010000
END:DAYLIGHT
BEGIN:STANDARD
TZOFFSETFROM:+0100
TZOFFSETTO:+0000
TZNAME:GMT
DTSTART:20241027T010000
END:STANDARD
END:VTIMEZONE
BEGIN:VEVENT
DTSTART;TZID=Europe/London:20240807T190000
DTEND;TZID=Europe/London:20240807T200000
DTSTAMP:20260421T160457
CREATED:20240305T113632Z
LAST-MODIFIED:20240305T113638Z
UID:3671-1723057200-1723060800@royal-naval-association-wrexham-branch.org.uk
SUMMARY:Wrexham RNA Chat & Quiz on Zoom
DESCRIPTION:
URL:https://royal-naval-association-wrexham-branch.org.uk/event/wrexham-rna-chat-quiz-on-zoom-33/
LOCATION:Takes place on Zoom\, please see Wrexham RNA Facebook Page for Meeting link and password provided by Shipmate Kevin Hackett.
END:VEVENT
BEGIN:VEVENT
DTSTART;TZID=Europe/London:20240814T190000
DTEND;TZID=Europe/London:20240814T220000
DTSTAMP:20260421T160457
CREATED:20240305T113753Z
LAST-MODIFIED:20240305T113759Z
UID:3673-1723662000-1723672800@royal-naval-association-wrexham-branch.org.uk
SUMMARY:Wrexham RNA Branch Business Meeting
DESCRIPTION:
URL:https://royal-naval-association-wrexham-branch.org.uk/event/wrexham-rna-branch-business-meeting-15/
LOCATION:Wrexham War Memorial Club\, Farndon Street\, Wrexham\, LL13 8DE\, United Kingdom
END:VEVENT
BEGIN:VEVENT
DTSTART;VALUE=DATE:20240817
DTEND;VALUE=DATE:20240818
DTSTAMP:20260421T160457
CREATED:20240305T114012Z
LAST-MODIFIED:20240305T114022Z
UID:3675-1723852800-1723939199@royal-naval-association-wrexham-branch.org.uk
SUMMARY:RNA Branch Ladies Afternoon Tea
DESCRIPTION:Details to be confirmed nearer the date
URL:https://royal-naval-association-wrexham-branch.org.uk/event/rna-branch-ladies-afternoon-tea/
END:VEVENT
BEGIN:VEVENT
DTSTART;TZID=Europe/London:20240817T143000
DTEND;TZID=Europe/London:20240817T170000
DTSTAMP:20260421T160457
CREATED:20240320T110311Z
LAST-MODIFIED:20240320T112553Z
UID:3972-1723905000-1723914000@royal-naval-association-wrexham-branch.org.uk
SUMMARY:Wrexham RNA Ladies Afternoon Tea at Rosset Hall
DESCRIPTION:Ruth Smith is organising an Afternoon Tea for the ladies at 2.30pm on Saturday 17th August at the Rossett Hall Hotel. The invitation is open to full or associate lady members and wives/partners/girlfriends of full or associate members of the Wrexham RNA branch. The cost is £17 per person. Afternoon Tea will be served along with unlimited tea and coffee. Other drinks are available to purchase separately. Names and money to me by 31st July. If you have any dietary requirements\, please let Ruth know in advance. \nAddress: Rossett Hall Hotel\, Chester Road\, Rossett\, Wrexham LL12 0DE \n4* Rossett Hall Hotel\, North Wales (everbrightgrouphotels.com) \n 
URL:https://royal-naval-association-wrexham-branch.org.uk/event/wrexham-rna-ladies-afternoon-tea-at-rosset-hall/
LOCATION:Rossett Hall Hotel\, LL12 0DE
END:VEVENT
BEGIN:VEVENT
DTSTART;TZID=Europe/London:20240821T190000
DTEND;TZID=Europe/London:20240821T200000
DTSTAMP:20260421T160457
CREATED:20240305T114137Z
LAST-MODIFIED:20240305T114143Z
UID:3677-1724266800-1724270400@royal-naval-association-wrexham-branch.org.uk
SUMMARY:Wrexham RNA Chat & Quiz on Zoom
DESCRIPTION:
URL:https://royal-naval-association-wrexham-branch.org.uk/event/wrexham-rna-chat-quiz-on-zoom-34/
LOCATION:Takes place on Zoom\, please see Wrexham RNA Facebook Page for Meeting link and password provided by Shipmate Kevin Hackett.
END:VEVENT
BEGIN:VEVENT
DTSTART;TZID=Europe/London:20240825T080000
DTEND;TZID=Europe/London:20240825T170000
DTSTAMP:20260421T160457
CREATED:20240305T114632Z
LAST-MODIFIED:20240305T114637Z
UID:3679-1724572800-1724605200@royal-naval-association-wrexham-branch.org.uk
SUMMARY:Oswestry Navy Days
DESCRIPTION:Venue: The Griffin Inn  \nRNA Oswestry Branch\nThe Griffin Inn\nAlbion Hill\nOswestry\nShropshire\nSY11 1QA \nDetails to be confirmed nearer the date\,
URL:https://royal-naval-association-wrexham-branch.org.uk/event/oswestry-navy-days/
LOCATION:RNA Oswestry Branch The Griffin Inn Albion Hill Oswestry Shropshire SY11 1QA
END:VEVENT
BEGIN:VEVENT
DTSTART;TZID=Europe/London:20240828T190000
DTEND;TZID=Europe/London:20240828T220000
DTSTAMP:20260421T160457
CREATED:20240305T115152Z
LAST-MODIFIED:20240305T115158Z
UID:3684-1724871600-1724882400@royal-naval-association-wrexham-branch.org.uk
SUMMARY:Wrexham RNA Branch Social Meeting
DESCRIPTION:
URL:https://royal-naval-association-wrexham-branch.org.uk/event/wrexham-rna-branch-social-meeting-26/
LOCATION:Wrexham War Memorial Club\, Farndon Street\, Wrexham\, LL13 8DE\, United Kingdom
END:VEVENT
END:VCALENDAR