BEGIN:VCALENDAR
VERSION:2.0
PRODID:-//Royal   Naval Association Wrexham Branch - ECPv6.3.4//NONSGML v1.0//EN
CALSCALE:GREGORIAN
METHOD:PUBLISH
X-WR-CALNAME:Royal   Naval Association Wrexham Branch
X-ORIGINAL-URL:https://royal-naval-association-wrexham-branch.org.uk
X-WR-CALDESC:Events for Royal   Naval Association Wrexham Branch
REFRESH-INTERVAL;VALUE=DURATION:PT1H
X-Robots-Tag:noindex
X-PUBLISHED-TTL:PT1H
BEGIN:VTIMEZONE
TZID:Europe/London
BEGIN:DAYLIGHT
TZOFFSETFROM:+0000
TZOFFSETTO:+0100
TZNAME:BST
DTSTART:20240331T010000
END:DAYLIGHT
BEGIN:STANDARD
TZOFFSETFROM:+0100
TZOFFSETTO:+0000
TZNAME:GMT
DTSTART:20241027T010000
END:STANDARD
END:VTIMEZONE
BEGIN:VEVENT
DTSTART;TZID=Europe/London:20240602T110000
DTEND;TZID=Europe/London:20240602T120000
DTSTAMP:20260421T104029
CREATED:20240305T085945Z
LAST-MODIFIED:20240305T101607Z
UID:3624-1717326000-1717329600@royal-naval-association-wrexham-branch.org.uk
SUMMARY:St Mary' Church Whitwell - Laying up of Wrexham Branch Old Standard
DESCRIPTION:This will take place at ST Mary’s Church Whitewell – Dress of the Day Number 1’s \nPostcode for St. Mary’s Church Whitewell is SY13 3AN.
URL:https://royal-naval-association-wrexham-branch.org.uk/event/whitewell-church-laying-up-of-wrexham-branch-old-standard/
LOCATION:Whitewell Church\, United Kingdom
END:VEVENT
BEGIN:VEVENT
DTSTART;TZID=Europe/London:20240605T190000
DTEND;TZID=Europe/London:20240605T200000
DTSTAMP:20260421T104029
CREATED:20240305T090344Z
LAST-MODIFIED:20240305T090350Z
UID:3630-1717614000-1717617600@royal-naval-association-wrexham-branch.org.uk
SUMMARY:Wrexham RNA Chat & Quiz on Zoom
DESCRIPTION:
URL:https://royal-naval-association-wrexham-branch.org.uk/event/wrexham-rna-chat-quiz-on-zoom-29/
LOCATION:Takes place on Zoom\, please see Wrexham RNA Facebook Page for Meeting link and password provided by Shipmate Kevin Hackett.
END:VEVENT
BEGIN:VEVENT
DTSTART;VALUE=DATE:20240610
DTEND;VALUE=DATE:20240611
DTSTAMP:20260421T104029
CREATED:20240305T091716Z
LAST-MODIFIED:20240305T091722Z
UID:3637-1717977600-1718063999@royal-naval-association-wrexham-branch.org.uk
SUMMARY:RNA Runcorn Visit NMA
DESCRIPTION:
URL:https://royal-naval-association-wrexham-branch.org.uk/event/rna-runcorn-visit-nma/
END:VEVENT
BEGIN:VEVENT
DTSTART;TZID=Europe/London:20240612T190000
DTEND;TZID=Europe/London:20240612T220000
DTSTAMP:20260421T104029
CREATED:20240305T090855Z
LAST-MODIFIED:20240305T090903Z
UID:3635-1718218800-1718229600@royal-naval-association-wrexham-branch.org.uk
SUMMARY:Wrexham RNA Branch Business Meeting
DESCRIPTION:
URL:https://royal-naval-association-wrexham-branch.org.uk/event/wrexham-rna-branch-business-meeting-13/
LOCATION:Wrexham War Memorial Club\, Farndon Street\, Wrexham\, LL13 8DE\, United Kingdom
END:VEVENT
BEGIN:VEVENT
DTSTART;TZID=Europe/London:20240614T080000
DTEND;TZID=Europe/London:20240616T170000
DTSTAMP:20260421T104029
CREATED:20240305T092255Z
LAST-MODIFIED:20240305T092301Z
UID:3639-1718352000-1718557200@royal-naval-association-wrexham-branch.org.uk
SUMMARY:RNA National Conference in Cardiff
DESCRIPTION:
URL:https://royal-naval-association-wrexham-branch.org.uk/event/rna-national-conference-in-cardiff/
END:VEVENT
BEGIN:VEVENT
DTSTART;TZID=Europe/London:20240618T153000
DTEND;TZID=Europe/London:20240618T163000
DTSTAMP:20260421T104029
CREATED:20240604T094500Z
LAST-MODIFIED:20240604T094510Z
UID:4264-1718724600-1718728200@royal-naval-association-wrexham-branch.org.uk
SUMMARY:Armed Forces Day Flag raising at Llwyn Isaf
DESCRIPTION:Armed Forces Day Flag raising\, Llwyn Isaf 1545
URL:https://royal-naval-association-wrexham-branch.org.uk/event/armed-forces-day-flag-raising-at-llwyn-isaf/
LOCATION:Llwyn Isaf\, Guild Hall\, Wrexham\, Wrexham\, LL11 1AU\, United Kingdom
END:VEVENT
BEGIN:VEVENT
DTSTART;TZID=Europe/London:20240619T190000
DTEND;TZID=Europe/London:20240619T200000
DTSTAMP:20260421T104029
CREATED:20240305T105059Z
LAST-MODIFIED:20240305T105109Z
UID:3652-1718823600-1718827200@royal-naval-association-wrexham-branch.org.uk
SUMMARY:Wrexham RNA Chat & Quiz on Zoom
DESCRIPTION:
URL:https://royal-naval-association-wrexham-branch.org.uk/event/wrexham-rna-chat-quiz-on-zoom-30/
LOCATION:Takes place on Zoom\, please see Wrexham RNA Facebook Page for Meeting link and password provided by Shipmate Kevin Hackett.
END:VEVENT
BEGIN:VEVENT
DTSTART;VALUE=DATE:20240622
DTEND;VALUE=DATE:20240623
DTSTAMP:20260421T104029
CREATED:20240604T094654Z
LAST-MODIFIED:20240604T094654Z
UID:4267-1719014400-1719100799@royal-naval-association-wrexham-branch.org.uk
SUMMARY:Welsh Guards Falklands service
DESCRIPTION:
URL:https://royal-naval-association-wrexham-branch.org.uk/event/welsh-guards-falklands-service/
END:VEVENT
BEGIN:VEVENT
DTSTART;VALUE=DATE:20240623
DTEND;VALUE=DATE:20240624
DTSTAMP:20260421T104029
CREATED:20240604T095038Z
LAST-MODIFIED:20240604T095816Z
UID:4269-1719100800-1719187199@royal-naval-association-wrexham-branch.org.uk
SUMMARY:Civic Service for the new Mayor of Wrexham Cllr Beryl Blackmore at St Giles Parish Church
DESCRIPTION:Standards required muster at 1030
URL:https://royal-naval-association-wrexham-branch.org.uk/event/civic-service-for-the-new-mayor-of-wrexham-cllr-beryl-blackmore-at-st-giles-parish-church/
END:VEVENT
BEGIN:VEVENT
DTSTART;TZID=Europe/London:20240626T190000
DTEND;TZID=Europe/London:20240626T220000
DTSTAMP:20260421T104029
CREATED:20240305T104905Z
LAST-MODIFIED:20240305T105150Z
UID:3650-1719428400-1719439200@royal-naval-association-wrexham-branch.org.uk
SUMMARY:Wrexham RNA Branch Social Meeting
DESCRIPTION:
URL:https://royal-naval-association-wrexham-branch.org.uk/event/wrexham-rna-branch-social-meeting-24/
LOCATION:Wrexham War Memorial Club\, Farndon Street\, Wrexham\, LL13 8DE\, United Kingdom
END:VEVENT
END:VCALENDAR