BEGIN:VCALENDAR
VERSION:2.0
PRODID:-//Royal   Naval Association Wrexham Branch - ECPv6.3.4//NONSGML v1.0//EN
CALSCALE:GREGORIAN
METHOD:PUBLISH
X-ORIGINAL-URL:https://royal-naval-association-wrexham-branch.org.uk
X-WR-CALDESC:Events for Royal   Naval Association Wrexham Branch
REFRESH-INTERVAL;VALUE=DURATION:PT1H
X-Robots-Tag:noindex
X-PUBLISHED-TTL:PT1H
BEGIN:VTIMEZONE
TZID:Europe/London
BEGIN:DAYLIGHT
TZOFFSETFROM:+0000
TZOFFSETTO:+0100
TZNAME:BST
DTSTART:20210328T010000
END:DAYLIGHT
BEGIN:STANDARD
TZOFFSETFROM:+0100
TZOFFSETTO:+0000
TZNAME:GMT
DTSTART:20211031T010000
END:STANDARD
END:VTIMEZONE
BEGIN:VEVENT
DTSTART;TZID=Europe/London:20211013T190000
DTEND;TZID=Europe/London:20211013T220000
DTSTAMP:20260421T132457
CREATED:20210521T081036Z
LAST-MODIFIED:20210902T113302Z
UID:2417-1634151600-1634162400@royal-naval-association-wrexham-branch.org.uk
SUMMARY:Wrexham RNA Official Branch Meeting
DESCRIPTION:This evening Shipmate Richard Jones will be attending the meeting to present Wrexham RNA with a rum tub kindly donated by RNA Harrogate who recently disbanded.
URL:https://royal-naval-association-wrexham-branch.org.uk/event/wrexham-rna-branch-meeting-22/
LOCATION:War Memorial Club\, Farndon Street\,\, Wrexham\, LL13 8DE\, United Kingdom
END:VEVENT
BEGIN:VEVENT
DTSTART;TZID=Europe/London:20211023T190000
DTEND;TZID=Europe/London:20211023T233000
DTSTAMP:20260421T132457
CREATED:20210902T120135Z
LAST-MODIFIED:20210902T133656Z
UID:2455-1635015600-1635031800@royal-naval-association-wrexham-branch.org.uk
SUMMARY:Oswestry RNA Branch\, Trafalgar Night Dinner.
DESCRIPTION:Trafalgar Dinner 2021 – once again Wrexham RNA members have been invited to the Oswestry RNA Branch\, Trafalgar Night Dinner. It is being held on Saturday 23rd October at the Weston Pools Club House.
URL:https://royal-naval-association-wrexham-branch.org.uk/event/oswestry-rna-branch-trafalgar-night-dinner/
END:VEVENT
BEGIN:VEVENT
DTSTART;TZID=Europe/London:20211027T080000
DTEND;TZID=Europe/London:20211027T170000
DTSTAMP:20260421T132457
CREATED:20210521T081309Z
LAST-MODIFIED:20210902T113502Z
UID:2420-1635321600-1635354000@royal-naval-association-wrexham-branch.org.uk
SUMMARY:Wrexham RNA Branch Social Meeting
DESCRIPTION:
URL:https://royal-naval-association-wrexham-branch.org.uk/event/wrexham-rna-branch-meeting-23/
LOCATION:War Memorial Club\, Farndon Street\,\, Wrexham\, LL13 8DE\, United Kingdom
END:VEVENT
END:VCALENDAR