BEGIN:VCALENDAR
VERSION:2.0
PRODID:-//Royal   Naval Association Wrexham Branch - ECPv6.3.4//NONSGML v1.0//EN
CALSCALE:GREGORIAN
METHOD:PUBLISH
X-WR-CALNAME:Royal   Naval Association Wrexham Branch
X-ORIGINAL-URL:https://royal-naval-association-wrexham-branch.org.uk
X-WR-CALDESC:Events for Royal   Naval Association Wrexham Branch
REFRESH-INTERVAL;VALUE=DURATION:PT1H
X-Robots-Tag:noindex
X-PUBLISHED-TTL:PT1H
BEGIN:VTIMEZONE
TZID:Europe/London
BEGIN:DAYLIGHT
TZOFFSETFROM:+0000
TZOFFSETTO:+0100
TZNAME:BST
DTSTART:20210328T010000
END:DAYLIGHT
BEGIN:STANDARD
TZOFFSETFROM:+0100
TZOFFSETTO:+0000
TZNAME:GMT
DTSTART:20211031T010000
END:STANDARD
END:VTIMEZONE
BEGIN:VEVENT
DTSTART;TZID=Europe/London:20210902T080000
DTEND;TZID=Europe/London:20210902T170000
DTSTAMP:20260421T144108
CREATED:20210902T132427Z
LAST-MODIFIED:20210902T132427Z
UID:2487-1630569600-1630602000@royal-naval-association-wrexham-branch.org.uk
SUMMARY:Wrexham RNA Official Branch Meeting
DESCRIPTION:
URL:https://royal-naval-association-wrexham-branch.org.uk/event/wrexham-rna-official-branch-meeting-6/
END:VEVENT
BEGIN:VEVENT
DTSTART;VALUE=DATE:20210903
DTEND;VALUE=DATE:20210904
DTSTAMP:20260421T144108
CREATED:20210902T114905Z
LAST-MODIFIED:20210902T115036Z
UID:2449-1630627200-1630713599@royal-naval-association-wrexham-branch.org.uk
SUMMARY:RNA Annual Conference in Nottingham
DESCRIPTION:Shipmates Kevin Hackett\, Eric Holmwood and Jeff  Hughes RVM\, alias the chuckle brothers will be attending this event representing Wrexham RNA
URL:https://royal-naval-association-wrexham-branch.org.uk/event/rna-annual-conference-in-nottingham/
END:VEVENT
BEGIN:VEVENT
DTSTART;TZID=Europe/London:20210908T190000
DTEND;TZID=Europe/London:20210908T220000
DTSTAMP:20260421T144108
CREATED:20210521T080803Z
LAST-MODIFIED:20210902T112825Z
UID:2413-1631127600-1631138400@royal-naval-association-wrexham-branch.org.uk
SUMMARY:Wrexham RNA Official Branch Meeting
DESCRIPTION:Tonight is the first official branch meeting following lifting of Covid Restrictions. \nPlease adhere to War Memorial club and Branch safety and hygiene rules. Thank you
URL:https://royal-naval-association-wrexham-branch.org.uk/event/wrexham-rna-branch-meeting-20/
LOCATION:War Memorial Club\, Farndon Street\,\, Wrexham\, LL13 8DE\, United Kingdom
END:VEVENT
BEGIN:VEVENT
DTSTART;VALUE=DATE:20210912
DTEND;VALUE=DATE:20210913
DTSTAMP:20260421T144108
CREATED:20210902T115325Z
LAST-MODIFIED:20210902T115751Z
UID:2452-1631404800-1631491199@royal-naval-association-wrexham-branch.org.uk
SUMMARY:Royal Naval Association Biennial Parade\, Cenotaph\, Whitehall
DESCRIPTION:For those going to the Biennial parade in London. Straight after the main parade\, there is a very short service of remembrance for the Royal Naval Division at their memorial on Horse guards\, you have been invited to attend if you wish to do so\, before proceeding to the civil service club by Reigate branch.
URL:https://royal-naval-association-wrexham-branch.org.uk/event/royal-naval-association-biennial-parade-cenotaph-whitehall/
END:VEVENT
BEGIN:VEVENT
DTSTART;TZID=Europe/London:20210922T190000
DTEND;TZID=Europe/London:20210922T220000
DTSTAMP:20260421T144108
CREATED:20210521T080914Z
LAST-MODIFIED:20210902T112915Z
UID:2415-1632337200-1632348000@royal-naval-association-wrexham-branch.org.uk
SUMMARY:Wrexham RNA Branch Social Meeting
DESCRIPTION:
URL:https://royal-naval-association-wrexham-branch.org.uk/event/wrexham-rna-branch-meeting-21/
LOCATION:War Memorial Club\, Farndon Street\,\, Wrexham\, LL13 8DE\, United Kingdom
END:VEVENT
END:VCALENDAR