BEGIN:VCALENDAR
VERSION:2.0
PRODID:-//Royal   Naval Association Wrexham Branch - ECPv6.3.4//NONSGML v1.0//EN
CALSCALE:GREGORIAN
METHOD:PUBLISH
X-ORIGINAL-URL:https://royal-naval-association-wrexham-branch.org.uk
X-WR-CALDESC:Events for Royal   Naval Association Wrexham Branch
REFRESH-INTERVAL;VALUE=DURATION:PT1H
X-Robots-Tag:noindex
X-PUBLISHED-TTL:PT1H
BEGIN:VTIMEZONE
TZID:Europe/London
BEGIN:DAYLIGHT
TZOFFSETFROM:+0000
TZOFFSETTO:+0100
TZNAME:BST
DTSTART:20250330T010000
END:DAYLIGHT
BEGIN:STANDARD
TZOFFSETFROM:+0100
TZOFFSETTO:+0000
TZNAME:GMT
DTSTART:20251026T010000
END:STANDARD
END:VTIMEZONE
BEGIN:VEVENT
DTSTART;TZID=Europe/London:20251017T180000
DTEND;TZID=Europe/London:20251017T230000
DTSTAMP:20260421T120314
CREATED:20250217T102200Z
LAST-MODIFIED:20250217T102204Z
UID:4440-1760724000-1760742000@royal-naval-association-wrexham-branch.org.uk
SUMMARY:Trafalgar Night Dinner
DESCRIPTION:
URL:https://royal-naval-association-wrexham-branch.org.uk/event/trafalgar-night-dinner/
LOCATION:Maesgwyn Hall\, Mold Road\, LL11 2AF
END:VEVENT
END:VCALENDAR