BEGIN:VCALENDAR
VERSION:2.0
PRODID:-//Royal   Naval Association Wrexham Branch - ECPv6.3.4//NONSGML v1.0//EN
CALSCALE:GREGORIAN
METHOD:PUBLISH
X-WR-CALNAME:Royal   Naval Association Wrexham Branch
X-ORIGINAL-URL:https://royal-naval-association-wrexham-branch.org.uk
X-WR-CALDESC:Events for Royal   Naval Association Wrexham Branch
REFRESH-INTERVAL;VALUE=DURATION:PT1H
X-Robots-Tag:noindex
X-PUBLISHED-TTL:PT1H
BEGIN:VTIMEZONE
TZID:Europe/London
BEGIN:DAYLIGHT
TZOFFSETFROM:+0000
TZOFFSETTO:+0100
TZNAME:BST
DTSTART:20250330T010000
END:DAYLIGHT
BEGIN:STANDARD
TZOFFSETFROM:+0100
TZOFFSETTO:+0000
TZNAME:GMT
DTSTART:20251026T010000
END:STANDARD
END:VTIMEZONE
BEGIN:VEVENT
DTSTART;TZID=Europe/London:20250620T080000
DTEND;TZID=Europe/London:20250622T170000
DTSTAMP:20260421T215356
CREATED:20241219T130754Z
LAST-MODIFIED:20250110T111317Z
UID:4327-1750406400-1750611600@royal-naval-association-wrexham-branch.org.uk
SUMMARY:RNA 75th Annual Conference 2025 Portsmouth
DESCRIPTION:RNA75 Annual Conference – Portsmouth 2025 – Royal Naval Association
URL:https://royal-naval-association-wrexham-branch.org.uk/event/rna-75th-annual-conference-2025-portsmouth/
END:VEVENT
END:VCALENDAR