BEGIN:VCALENDAR
VERSION:2.0
PRODID:-//Royal   Naval Association Wrexham Branch - ECPv6.3.4//NONSGML v1.0//EN
CALSCALE:GREGORIAN
METHOD:PUBLISH
X-WR-CALNAME:Royal   Naval Association Wrexham Branch
X-ORIGINAL-URL:https://royal-naval-association-wrexham-branch.org.uk
X-WR-CALDESC:Events for Royal   Naval Association Wrexham Branch
REFRESH-INTERVAL;VALUE=DURATION:PT1H
X-Robots-Tag:noindex
X-PUBLISHED-TTL:PT1H
BEGIN:VTIMEZONE
TZID:Europe/London
BEGIN:DAYLIGHT
TZOFFSETFROM:+0000
TZOFFSETTO:+0100
TZNAME:BST
DTSTART:20250330T010000
END:DAYLIGHT
BEGIN:STANDARD
TZOFFSETFROM:+0100
TZOFFSETTO:+0000
TZNAME:GMT
DTSTART:20251026T010000
END:STANDARD
END:VTIMEZONE
BEGIN:VEVENT
DTSTART;TZID=Europe/London:20250525T080000
DTEND;TZID=Europe/London:20250525T170000
DTSTAMP:20260421T203544
CREATED:20250525T101926Z
LAST-MODIFIED:20250525T101926Z
UID:4657-1748160000-1748192400@royal-naval-association-wrexham-branch.org.uk
SUMMARY:RAF Valley Open Day Friday 8th August 2025
DESCRIPTION:
URL:https://royal-naval-association-wrexham-branch.org.uk/event/raf-valley-open-day-friday-8th-august-2025/
END:VEVENT
END:VCALENDAR