BEGIN:VCALENDAR
VERSION:2.0
PRODID:-//Royal   Naval Association Wrexham Branch - ECPv6.3.4//NONSGML v1.0//EN
CALSCALE:GREGORIAN
METHOD:PUBLISH
X-WR-CALNAME:Royal   Naval Association Wrexham Branch
X-ORIGINAL-URL:https://royal-naval-association-wrexham-branch.org.uk
X-WR-CALDESC:Events for Royal   Naval Association Wrexham Branch
REFRESH-INTERVAL;VALUE=DURATION:PT1H
X-Robots-Tag:noindex
X-PUBLISHED-TTL:PT1H
BEGIN:VTIMEZONE
TZID:Europe/London
BEGIN:DAYLIGHT
TZOFFSETFROM:+0000
TZOFFSETTO:+0100
TZNAME:BST
DTSTART:20250330T010000
END:DAYLIGHT
BEGIN:STANDARD
TZOFFSETFROM:+0100
TZOFFSETTO:+0000
TZNAME:GMT
DTSTART:20251026T010000
END:STANDARD
END:VTIMEZONE
BEGIN:VEVENT
DTSTART;VALUE=DATE:20250508
DTEND;VALUE=DATE:20250509
DTSTAMP:20260421T161005
CREATED:20250127T142138Z
LAST-MODIFIED:20250127T142150Z
UID:4367-1746662400-1746748799@royal-naval-association-wrexham-branch.org.uk
SUMMARY:VE Day Wrexham Town Centre
DESCRIPTION:
URL:https://royal-naval-association-wrexham-branch.org.uk/event/ve-day-wrexham-town-centre/
END:VEVENT
END:VCALENDAR