BEGIN:VCALENDAR
VERSION:2.0
PRODID:-//Royal   Naval Association Wrexham Branch - ECPv6.3.4//NONSGML v1.0//EN
CALSCALE:GREGORIAN
METHOD:PUBLISH
X-ORIGINAL-URL:https://royal-naval-association-wrexham-branch.org.uk
X-WR-CALDESC:Events for Royal   Naval Association Wrexham Branch
REFRESH-INTERVAL;VALUE=DURATION:PT1H
X-Robots-Tag:noindex
X-PUBLISHED-TTL:PT1H
BEGIN:VTIMEZONE
TZID:Europe/London
BEGIN:DAYLIGHT
TZOFFSETFROM:+0000
TZOFFSETTO:+0100
TZNAME:BST
DTSTART:20250330T010000
END:DAYLIGHT
BEGIN:STANDARD
TZOFFSETFROM:+0100
TZOFFSETTO:+0000
TZNAME:GMT
DTSTART:20251026T010000
END:STANDARD
END:VTIMEZONE
BEGIN:VEVENT
DTSTART;VALUE=DATE:20250426
DTEND;VALUE=DATE:20250427
DTSTAMP:20260421T144103
CREATED:20250110T105517Z
LAST-MODIFIED:20250110T105526Z
UID:4333-1745625600-1745711999@royal-naval-association-wrexham-branch.org.uk
SUMMARY:Area 10 Meeting at Wallasey
DESCRIPTION:
URL:https://royal-naval-association-wrexham-branch.org.uk/event/area-10-meeting-at-wallasey/
LOCATION:RNA Wallasey RNA Club Riverview Road Wallasey Merseyside CH44 6PX
END:VEVENT
END:VCALENDAR