BEGIN:VCALENDAR
VERSION:2.0
PRODID:-//Royal   Naval Association Wrexham Branch - ECPv6.3.4//NONSGML v1.0//EN
CALSCALE:GREGORIAN
METHOD:PUBLISH
X-ORIGINAL-URL:https://royal-naval-association-wrexham-branch.org.uk
X-WR-CALDESC:Events for Royal   Naval Association Wrexham Branch
REFRESH-INTERVAL;VALUE=DURATION:PT1H
X-Robots-Tag:noindex
X-PUBLISHED-TTL:PT1H
BEGIN:VTIMEZONE
TZID:Europe/London
BEGIN:DAYLIGHT
TZOFFSETFROM:+0000
TZOFFSETTO:+0100
TZNAME:BST
DTSTART:20240331T010000
END:DAYLIGHT
BEGIN:STANDARD
TZOFFSETFROM:+0100
TZOFFSETTO:+0000
TZNAME:GMT
DTSTART:20241027T010000
END:STANDARD
END:VTIMEZONE
BEGIN:VEVENT
DTSTART;VALUE=DATE:20240731
DTEND;VALUE=DATE:20240801
DTSTAMP:20260421T132355
CREATED:20240305T112946Z
LAST-MODIFIED:20240305T113418Z
UID:3667-1722384000-1722470399@royal-naval-association-wrexham-branch.org.uk
SUMMARY:Back Tot Day
DESCRIPTION:Black Tot Day\, observed on July 31\, 1970\, marks the end of a centuries-old tradition in the Royal Navy. On this day\, sailors received their final rum ration\, affectionately known as the “daily tot” 12. \nHere’s a historical overview of the daily drink ration for English sailors: \n\n17th Century: Sailors were allotted a gallon of beer (approximately four litres) as their daily drink. However\, due to storage challenges\, rum gradually replaced beer. A half pint (284 ml) of rum became the preferred choice .\n19th Century: The tot size was halved to one-quarter of an imperial pint (142 ml) to address discipline issues. Later\, it was further reduced to one-eighth of an imperial pint (71 ml) per day\, eliminating the evening serving.\n20th Century: In 1969\, the Admiralty Board decided that the rum ration was no longer compatible with the demands of modern naval tasks. The “Great Rum Debate” ensued in the House of Commons\, resulting in the decision to end the tradition. On July 31\, 1970\, the final tots of rum were distributed\, and sailors bid farewell to this long-standing practice.\n\nDespite an extra can of beer added to their daily rations\, the move was met with mixed feelings among the ratings. Some sailors even wore black armbands\, and mock funeral processions were held in certain naval establishments. \nThus\, Black Tot Day remains a significant milestone in naval history\, marking the end of an era when sailors raised their tots in camaraderie and tradition.
URL:https://royal-naval-association-wrexham-branch.org.uk/event/back-tot-day/
END:VEVENT
END:VCALENDAR