BEGIN:VCALENDAR
VERSION:2.0
PRODID:-//Royal   Naval Association Wrexham Branch - ECPv6.3.4//NONSGML v1.0//EN
CALSCALE:GREGORIAN
METHOD:PUBLISH
X-ORIGINAL-URL:https://royal-naval-association-wrexham-branch.org.uk
X-WR-CALDESC:Events for Royal   Naval Association Wrexham Branch
REFRESH-INTERVAL;VALUE=DURATION:PT1H
X-Robots-Tag:noindex
X-PUBLISHED-TTL:PT1H
BEGIN:VTIMEZONE
TZID:Europe/London
BEGIN:DAYLIGHT
TZOFFSETFROM:+0000
TZOFFSETTO:+0100
TZNAME:BST
DTSTART:20240331T010000
END:DAYLIGHT
BEGIN:STANDARD
TZOFFSETFROM:+0100
TZOFFSETTO:+0000
TZNAME:GMT
DTSTART:20241027T010000
END:STANDARD
END:VTIMEZONE
BEGIN:VEVENT
DTSTART;VALUE=DATE:20240706
DTEND;VALUE=DATE:20240708
DTSTAMP:20260421T132356
CREATED:20240305T104321Z
LAST-MODIFIED:20240305T104349Z
UID:3645-1720224000-1720396799@royal-naval-association-wrexham-branch.org.uk
SUMMARY:Armed Forces Day in Swansea
DESCRIPTION:Armed Forces Day in Swansea is scheduled for July 6 and 7\, 2024. During this event\, the Wales Airshow will return to Swansea Bay\, with the Saturday specifically hosting the Wales National Armed Forces Day. The celebration aims to honour the contributions of those serving in the Armed Forces\, veterans\, reservists\, cadet forces\, and volunteers. Expect exciting air displays\, ground exhibits\, and entertainment throughout the weekend
URL:https://royal-naval-association-wrexham-branch.org.uk/event/armed-forces-day-in-swansea/
LOCATION:Swansea Promenade\, United Kingdom
END:VEVENT
BEGIN:VEVENT
DTSTART;VALUE=DATE:20240706
DTEND;VALUE=DATE:20240707
DTSTAMP:20260421T132356
CREATED:20240423T200312Z
LAST-MODIFIED:20240503T131829Z
UID:4203-1720224000-1720310399@royal-naval-association-wrexham-branch.org.uk
SUMMARY:Wrexham RNA Branch visit to the National Arboretum
DESCRIPTION:Details and costs for the Branch Visit to the National Arboretum: \nCost of coach per person \nShipmates £5. \nNon Members £10 \nVisit on July 6th by coach\, pick up points: \nLlay opposite the Royal British Legion 10:00. \nGwersyllt War Memorial 10:15 \nWrexham bus station 10:30. \nOn arrival at the Arboretum Wrexham RNA will hold a short memorial service at the Royal Naval Memorial. Following the service shipmates and guests are free to wander around the Arboretum site until 16:30  ready to board the coach\, which will then proceed to the Royal British Legion Club at Alrewas where people can purchase food and drinks if required. The coach will leave directly for return journey to Wrexham at 20.30. \nLink to website \nHome | National Memorial Arboretum (thenma.org.uk)
URL:https://royal-naval-association-wrexham-branch.org.uk/event/wrexham-rna-branch-visit-to-the-national-arboretum/
LOCATION:National Arboretum\, Croxall Rd\, Alrewas\,\, Burton-on-Trent\, Staffordshire\, DE13 7AR\, United Kingdom
END:VEVENT
END:VCALENDAR