BEGIN:VCALENDAR
VERSION:2.0
PRODID:-//Royal   Naval Association Wrexham Branch - ECPv6.3.4//NONSGML v1.0//EN
CALSCALE:GREGORIAN
METHOD:PUBLISH
X-ORIGINAL-URL:https://royal-naval-association-wrexham-branch.org.uk
X-WR-CALDESC:Events for Royal   Naval Association Wrexham Branch
REFRESH-INTERVAL;VALUE=DURATION:PT1H
X-Robots-Tag:noindex
X-PUBLISHED-TTL:PT1H
BEGIN:VTIMEZONE
TZID:Europe/London
BEGIN:DAYLIGHT
TZOFFSETFROM:+0000
TZOFFSETTO:+0100
TZNAME:BST
DTSTART:20210328T010000
END:DAYLIGHT
BEGIN:STANDARD
TZOFFSETFROM:+0100
TZOFFSETTO:+0000
TZNAME:GMT
DTSTART:20211031T010000
END:STANDARD
END:VTIMEZONE
BEGIN:VEVENT
DTSTART;TZID=Europe/London:20211208T190000
DTEND;TZID=Europe/London:20211208T220000
DTSTAMP:20260421T120314
CREATED:20210521T081733Z
LAST-MODIFIED:20210902T114054Z
UID:2426-1638990000-1639000800@royal-naval-association-wrexham-branch.org.uk
SUMMARY:Wrexham RNA Official Branch Meeting
DESCRIPTION:Tonight will be the last Branch Meeting of 2021
URL:https://royal-naval-association-wrexham-branch.org.uk/event/wrexham-rna-branch-meeting-26/
LOCATION:War Memorial Club\, Farndon Street\,\, Wrexham\, LL13 8DE\, United Kingdom
END:VEVENT
END:VCALENDAR